BEGIN:VCALENDAR
VERSION:2.0
PRODID:-//Stroud CAMRA - ECPv6.15.20//NONSGML v1.0//EN
CALSCALE:GREGORIAN
METHOD:PUBLISH
X-ORIGINAL-URL:https://stroud.camra.org.uk
X-WR-CALDESC:Events for Stroud CAMRA
REFRESH-INTERVAL;VALUE=DURATION:PT1H
X-Robots-Tag:noindex
X-PUBLISHED-TTL:PT1H
BEGIN:VTIMEZONE
TZID:Europe/London
BEGIN:DAYLIGHT
TZOFFSETFROM:+0000
TZOFFSETTO:+0100
TZNAME:BST
DTSTART:20240331T010000
END:DAYLIGHT
BEGIN:STANDARD
TZOFFSETFROM:+0100
TZOFFSETTO:+0000
TZNAME:GMT
DTSTART:20241027T010000
END:STANDARD
BEGIN:DAYLIGHT
TZOFFSETFROM:+0000
TZOFFSETTO:+0100
TZNAME:BST
DTSTART:20250330T010000
END:DAYLIGHT
BEGIN:STANDARD
TZOFFSETFROM:+0100
TZOFFSETTO:+0000
TZNAME:GMT
DTSTART:20251026T010000
END:STANDARD
BEGIN:DAYLIGHT
TZOFFSETFROM:+0000
TZOFFSETTO:+0100
TZNAME:BST
DTSTART:20260329T010000
END:DAYLIGHT
BEGIN:STANDARD
TZOFFSETFROM:+0100
TZOFFSETTO:+0000
TZNAME:GMT
DTSTART:20261025T010000
END:STANDARD
END:VTIMEZONE
BEGIN:VEVENT
DTSTART;VALUE=DATE:20250411
DTEND;VALUE=DATE:20250414
DTSTAMP:20260420T000338
CREATED:20250114T145706Z
LAST-MODIFIED:20250114T145706Z
UID:1725-1744329600-1744588799@stroud.camra.org.uk
SUMMARY:CAMRA Members’ Weekend\, AGM & Conference 2025
DESCRIPTION:
URL:https://stroud.camra.org.uk/event/camra-members-weekend-agm-conference-2025/
LOCATION:Torquay\, Riviera Centre\, Torquay
CATEGORIES:AGM
END:VEVENT
BEGIN:VEVENT
DTSTART;TZID=Europe/London:20250322T120000
DTEND;TZID=Europe/London:20250322T140000
DTSTAMP:20260420T000338
CREATED:20250312T113051Z
LAST-MODIFIED:20250312T113157Z
UID:2377-1742644800-1742652000@stroud.camra.org.uk
SUMMARY:Gloucestershire County Meeting
DESCRIPTION:The Gloucestershire CAMRA Area and County Coordinator is hosting a meeting in the Fountain Inn\, Gloucester on Saturday\, 22nd March at 12 noon to discuss these changes and hear your views on how we can work together to rejuvenate CAMRA in the region. \n  \nAll members are welcome.  Please see proposed agenda; \n  \n1. Working Together/Communication\n2. Beer Festivals \n3. GBG Entries\n4. CAMRA Membership\n5. Pub Surveys\n6. Dealing with pubs under threat\n7. County Pub of the Year for Ale\, County Pub of the Year for Cider and County Club of the Year.\n8. Forum/AOB \n  \nThey look forward to seeing you there. \n 
URL:https://stroud.camra.org.uk/event/2377/
LOCATION:Fountain Inn\, Gloucester\, 53 Westgate Street\, Gloucester\, Gloucestershire\, GL1 2NW\, United Kingdom
CATEGORIES:AGM
ATTACH;FMTTYPE=image/png:https://stroud.camra.org.uk/wp-content/uploads/2025/01/CAMRA-members-welcome-here-window-sticker-design-1080x1080-1.png
END:VEVENT
BEGIN:VEVENT
DTSTART;TZID=Europe/London:20250222T120000
DTEND;TZID=Europe/London:20250222T170000
DTSTAMP:20260420T000338
CREATED:20250224T113548Z
LAST-MODIFIED:20250224T113626Z
UID:2324-1740225600-1740243600@stroud.camra.org.uk
SUMMARY:West Central Region CAMRA meeting + Worcester Social
DESCRIPTION:
URL:https://stroud.camra.org.uk/event/west-central-region-camra-meeting-worcester-social/
LOCATION:Saracens Head\, Worcester\, 4 The Tything\, WR1 1HD
CATEGORIES:AGM
ATTACH;FMTTYPE=image/png:https://stroud.camra.org.uk/wp-content/uploads/2025/02/West-Central-logo-500H.png
END:VEVENT
END:VCALENDAR