BEGIN:VCALENDAR
VERSION:2.0
PRODID:-//Stroud CAMRA - ECPv6.15.20//NONSGML v1.0//EN
CALSCALE:GREGORIAN
METHOD:PUBLISH
X-WR-CALNAME:Stroud CAMRA
X-ORIGINAL-URL:https://stroud.camra.org.uk
X-WR-CALDESC:Events for Stroud CAMRA
REFRESH-INTERVAL;VALUE=DURATION:PT1H
X-Robots-Tag:noindex
X-PUBLISHED-TTL:PT1H
BEGIN:VTIMEZONE
TZID:Europe/London
BEGIN:DAYLIGHT
TZOFFSETFROM:+0000
TZOFFSETTO:+0100
TZNAME:BST
DTSTART:20220327T010000
END:DAYLIGHT
BEGIN:STANDARD
TZOFFSETFROM:+0100
TZOFFSETTO:+0000
TZNAME:GMT
DTSTART:20221030T010000
END:STANDARD
BEGIN:DAYLIGHT
TZOFFSETFROM:+0000
TZOFFSETTO:+0100
TZNAME:BST
DTSTART:20230326T010000
END:DAYLIGHT
BEGIN:STANDARD
TZOFFSETFROM:+0100
TZOFFSETTO:+0000
TZNAME:GMT
DTSTART:20231029T010000
END:STANDARD
BEGIN:DAYLIGHT
TZOFFSETFROM:+0000
TZOFFSETTO:+0100
TZNAME:BST
DTSTART:20240331T010000
END:DAYLIGHT
BEGIN:STANDARD
TZOFFSETFROM:+0100
TZOFFSETTO:+0000
TZNAME:GMT
DTSTART:20241027T010000
END:STANDARD
BEGIN:DAYLIGHT
TZOFFSETFROM:+0000
TZOFFSETTO:+0100
TZNAME:BST
DTSTART:20250330T010000
END:DAYLIGHT
BEGIN:STANDARD
TZOFFSETFROM:+0100
TZOFFSETTO:+0000
TZNAME:GMT
DTSTART:20251026T010000
END:STANDARD
BEGIN:DAYLIGHT
TZOFFSETFROM:+0000
TZOFFSETTO:+0100
TZNAME:BST
DTSTART:20260329T010000
END:DAYLIGHT
BEGIN:STANDARD
TZOFFSETFROM:+0100
TZOFFSETTO:+0000
TZNAME:GMT
DTSTART:20261025T010000
END:STANDARD
END:VTIMEZONE
BEGIN:VEVENT
DTSTART;VALUE=DATE:20250829
DTEND;VALUE=DATE:20250901
DTSTAMP:20260420T014041
CREATED:20250307T155150Z
LAST-MODIFIED:20250307T155150Z
UID:2364-1756425600-1756684799@stroud.camra.org.uk
SUMMARY:Outer Fringe Festival Weekend 2 (External)
DESCRIPTION:The Outer Fringe Beer\, Cider\, Music & Food Festival \nLive music\, cinema night\, hot food available all weekend.
URL:https://stroud.camra.org.uk/event/outer-fringe-festival-weekend-2-external/
LOCATION:Crown & Sceptre\, 98 Horns Road\, GL5 1EG
CATEGORIES:External Event,Festivals
END:VEVENT
BEGIN:VEVENT
DTSTART;VALUE=DATE:20250822
DTEND;VALUE=DATE:20250826
DTSTAMP:20260420T014041
CREATED:20250307T155052Z
LAST-MODIFIED:20250307T155052Z
UID:2360-1755820800-1756166399@stroud.camra.org.uk
SUMMARY:Outer Fringe Festival Weekend 1 (External)
DESCRIPTION:The Outer Fringe Beer\, Cider\, Music & Food Festival \nLive music\, cinema night\, hot food available all weekend.
URL:https://stroud.camra.org.uk/event/outer-fringe-festival-weekend-1-external/
LOCATION:Crown & Sceptre\, 98 Horns Road\, GL5 1EG
CATEGORIES:External Event,Festivals
END:VEVENT
BEGIN:VEVENT
DTSTART;TZID=Europe/London:20250821T123000
DTEND;TZID=Europe/London:20250825T190000
DTSTAMP:20260420T014041
CREATED:20250203T184619Z
LAST-MODIFIED:20250203T184619Z
UID:1955-1755779400-1756148400@stroud.camra.org.uk
SUMMARY:August Bank Holiday Beer Festival (External)
DESCRIPTION:
URL:https://stroud.camra.org.uk/event/august-bank-holiday-beer-festival-external/
LOCATION:Prince Albert\, Rodborough\, Rodborough Hill\, Stroud\, Gloucestershire\, GL5\, United Kingdom
CATEGORIES:External Event,Festivals
END:VEVENT
BEGIN:VEVENT
DTSTART;TZID=Europe/London:20250801T120000
DTEND;TZID=Europe/London:20250803T220000
DTSTAMP:20260420T014041
CREATED:20250203T183845Z
LAST-MODIFIED:20250203T183859Z
UID:1946-1754049600-1754258400@stroud.camra.org.uk
SUMMARY:Stroud Beer Festival - The Sub Rooms (External)
DESCRIPTION:Join us on The Sub Rooms Forecourt for another epic Stroud Beer Festival! \nWe believe that nothing says summer like sharing some beers with your mates whilst soaking up great tunes and (fingers crossed!) beautiful sunshine – to make it even better\, it’s all in the spirit of charity fundraising for the Sub Rooms! \nAs many of you know\, the Sub Rooms is run as a charitable entity reliant on local support and funding grants. So we’re thrilled to be playing host to some of Stroud’s best talent who are taking the time to give a little something back to the venue that they all know and love as well as a few artists from further afield! \nDescription taken from Sub Rooms Website
URL:https://stroud.camra.org.uk/event/stroud-beer-festival-the-sub-rooms/
LOCATION:Sub Rooms\, Stroud\, George Street\, Stroud\, Gloucestershire\, GL5 1AE\, United Kingdom
CATEGORIES:External Event
END:VEVENT
BEGIN:VEVENT
DTSTART;VALUE=DATE:20250628
DTEND;VALUE=DATE:20250629
DTSTAMP:20260420T014041
CREATED:20250411T094729Z
LAST-MODIFIED:20250411T094729Z
UID:2733-1751068800-1751155199@stroud.camra.org.uk
SUMMARY:Stroud Pride 2025
DESCRIPTION:
URL:https://stroud.camra.org.uk/event/stroud-pride-2025/
CATEGORIES:External Event
END:VEVENT
BEGIN:VEVENT
DTSTART;TZID=Europe/London:20250517T150000
DTEND;TZID=Europe/London:20250517T210000
DTSTAMP:20260420T014041
CREATED:20250410T125504Z
LAST-MODIFIED:20250429T141515Z
UID:2725-1747494000-1747515600@stroud.camra.org.uk
SUMMARY:Rose & Crown Inn\, Pop-Up Pub Event
DESCRIPTION:Our Pop-up Pub events are proving so popular\, that we’re planning another one! \nThis one will be in the heart of the village\, opposite the Rose & Crown Inn. \nTimes to be confirmed\, but make sure you have the date saved \nSee you there!
URL:https://stroud.camra.org.uk/event/rose-crown-inn-pop-up-pub-event/
LOCATION:Rose & Crown\, Nympsfield\, Nympsfield\, Gloucestershire\, United Kingdom
CATEGORIES:External Event
ATTACH;FMTTYPE=image/png:https://stroud.camra.org.uk/wp-content/uploads/2025/01/CAMRA-Community-Pubs.png
END:VEVENT
BEGIN:VEVENT
DTSTART;VALUE=DATE:20250502
DTEND;VALUE=DATE:20250506
DTSTAMP:20260420T014041
CREATED:20250411T094554Z
LAST-MODIFIED:20250411T094554Z
UID:2730-1746144000-1746489599@stroud.camra.org.uk
SUMMARY:Horsley - Hogfest 2025
DESCRIPTION:
URL:https://stroud.camra.org.uk/event/horsley-hogfest-2025/
LOCATION:Hog\, Horsley\, The Cross\, Horsley\, Gloucestershire\, GL6 0PR\, United Kingdom
CATEGORIES:External Event
END:VEVENT
BEGIN:VEVENT
DTSTART;TZID=Europe/London:20250501T180000
DTEND;TZID=Europe/London:20250505T190000
DTSTAMP:20260420T014041
CREATED:20250203T184334Z
LAST-MODIFIED:20250203T184334Z
UID:1951-1746122400-1746471600@stroud.camra.org.uk
SUMMARY:May Bank Holiday Beer Festival (External)
DESCRIPTION:
URL:https://stroud.camra.org.uk/event/may-bank-holiday-beer-festival-external/
LOCATION:Prince Albert\, Rodborough\, Rodborough Hill\, Stroud\, Gloucestershire\, GL5\, United Kingdom
CATEGORIES:External Event,Festivals
END:VEVENT
BEGIN:VEVENT
DTSTART;VALUE=DATE:20250313
DTEND;VALUE=DATE:20250317
DTSTAMP:20260420T014041
CREATED:20250211T130832Z
LAST-MODIFIED:20250211T132746Z
UID:2002-1741824000-1742169599@stroud.camra.org.uk
SUMMARY:Pelican Inn 11th Winter Ales Festival (External)
DESCRIPTION:
URL:https://stroud.camra.org.uk/event/pelican-inn-11th-winter-ales-festival-external/
LOCATION:Pelican\, Gloucester\, 4 St Mary's St\, Gloucester\, Gloucestershire\, GL1 2QR\, United Kingdom
CATEGORIES:External Event,Festivals
ATTACH;FMTTYPE=image/jpeg:https://stroud.camra.org.uk/wp-content/uploads/2025/02/Pelican_WAF_25.jpg
END:VEVENT
BEGIN:VEVENT
DTSTART;TZID=Europe/London:20250222T110000
DTEND;TZID=Europe/London:20250222T150000
DTSTAMP:20260420T014041
CREATED:20250118T151725Z
LAST-MODIFIED:20250118T151725Z
UID:1786-1740222000-1740236400@stroud.camra.org.uk
SUMMARY:Ale Amble for Longfield Hospice (External Event)
DESCRIPTION:“Looking for a fun day out combining scenic walks\, craft beer\, and the excitement of Six Nations Rugby? The Ale Amble is the perfect event for you! Starting and finishing at the renowned Stroud Brewery\, this event offers a four-mile circular walking route with stops at charming local pubs\, stunning countryside views\, and an epic rugby finale.” – Longfield Hospice
URL:https://stroud.camra.org.uk/event/ale-amble-for-longfield-hospice-external-event/
LOCATION:Stroud Brewery Tap\, London Rd\, Stroud\, GL5 2BY
CATEGORIES:External Event
END:VEVENT
BEGIN:VEVENT
DTSTART;VALUE=DATE:20231021
DTEND;VALUE=DATE:20231022
DTSTAMP:20260420T014041
CREATED:20250211T132543Z
LAST-MODIFIED:20250211T132703Z
UID:2010-1697846400-1697932799@stroud.camra.org.uk
SUMMARY:Apple Fest @ The Carps 2023 (External)
DESCRIPTION:
URL:https://stroud.camra.org.uk/event/apple-fest-the-carps-2023-external/
LOCATION:Carpenters Arms\, Westrip\, Redhouse Lane\, Gloucestershire\, GL6 6EY\, United Kingdom
CATEGORIES:External Event,Festivals
ATTACH;FMTTYPE=image/jpeg:https://stroud.camra.org.uk/wp-content/uploads/2025/02/Carps_West_Apples_23.jpg
END:VEVENT
END:VCALENDAR