BEGIN:VCALENDAR
VERSION:2.0
PRODID:-//Stroud CAMRA - ECPv6.15.20//NONSGML v1.0//EN
CALSCALE:GREGORIAN
METHOD:PUBLISH
X-ORIGINAL-URL:https://stroud.camra.org.uk
X-WR-CALDESC:Events for Stroud CAMRA
REFRESH-INTERVAL;VALUE=DURATION:PT1H
X-Robots-Tag:noindex
X-PUBLISHED-TTL:PT1H
BEGIN:VTIMEZONE
TZID:Europe/London
BEGIN:DAYLIGHT
TZOFFSETFROM:+0000
TZOFFSETTO:+0100
TZNAME:BST
DTSTART:20230326T010000
END:DAYLIGHT
BEGIN:STANDARD
TZOFFSETFROM:+0100
TZOFFSETTO:+0000
TZNAME:GMT
DTSTART:20231029T010000
END:STANDARD
BEGIN:DAYLIGHT
TZOFFSETFROM:+0000
TZOFFSETTO:+0100
TZNAME:BST
DTSTART:20240331T010000
END:DAYLIGHT
BEGIN:STANDARD
TZOFFSETFROM:+0100
TZOFFSETTO:+0000
TZNAME:GMT
DTSTART:20241027T010000
END:STANDARD
BEGIN:DAYLIGHT
TZOFFSETFROM:+0000
TZOFFSETTO:+0100
TZNAME:BST
DTSTART:20250330T010000
END:DAYLIGHT
BEGIN:STANDARD
TZOFFSETFROM:+0100
TZOFFSETTO:+0000
TZNAME:GMT
DTSTART:20251026T010000
END:STANDARD
BEGIN:DAYLIGHT
TZOFFSETFROM:+0000
TZOFFSETTO:+0100
TZNAME:BST
DTSTART:20260329T010000
END:DAYLIGHT
BEGIN:STANDARD
TZOFFSETFROM:+0100
TZOFFSETTO:+0000
TZNAME:GMT
DTSTART:20261025T010000
END:STANDARD
END:VTIMEZONE
BEGIN:VEVENT
DTSTART;TZID=Europe/London:20250423T193000
DTEND;TZID=Europe/London:20250423T220000
DTSTAMP:20260420T000439
CREATED:20250317T141436Z
LAST-MODIFIED:20250411T093446Z
UID:2389-1745436600-1745445600@stroud.camra.org.uk
SUMMARY:April Social - Spider Lane - Crown & Sceptre & Bowbridge Arms
DESCRIPTION:Everyone is welcome to join us for a night socialising beginning at (venues possibly reversed) the newly refurbished and reopened Bowbridge Arms before a short walk up (or down) the hill to visit the relatively new management at the Crown & Sceptre. \nTravel Arrangements \nPlease get in touch if you would be unable to walk or use public transport and we can liaise and see what we can do. \nThe Bowbridge Arms is no more than a 20 minute walk from the centre of Stroud. It is also close to the canal footpath\, which can be taken as far as the locks at Butterrow Hill. \nThe 67 Bus leaves Merrywalks at 19:10 arriving outside at 19:19. [There are no services after 20:00 in the area\, it is a 15 minute walk from the Crown & Sceptre to the centre of Stroud.]
URL:https://stroud.camra.org.uk/event/april-social-bowbridge/
LOCATION:Bowbridge Arms\, Stroud\, London Rd\, Stroud\, GL5 2AY
CATEGORIES:Social
END:VEVENT
BEGIN:VEVENT
DTSTART;TZID=Europe/London:20250121T193000
DTEND;TZID=Europe/London:20250121T220000
DTSTAMP:20260420T000439
CREATED:20250114T143340Z
LAST-MODIFIED:20250211T140553Z
UID:1704-1737487800-1737496800@stroud.camra.org.uk
SUMMARY:Paganhill Social
DESCRIPTION:The January social will take place on Tuesday 21st January. On the agenda are two pubs: the Rose Inn and the Old Crown\, both in the Paganhill area of Stroud. \nPlease get in touch with the branch for more details. \nImage: Mike Goldwater
URL:https://stroud.camra.org.uk/event/paganhill-social/
CATEGORIES:Social
ATTACH;FMTTYPE=image/jpeg:https://stroud.camra.org.uk/wp-content/uploads/2025/02/Assorted-Pint-Clips-Two-640x428-1.jpg
END:VEVENT
BEGIN:VEVENT
DTSTART;TZID=Europe/London:20241030T193000
DTEND;TZID=Europe/London:20241030T220000
DTSTAMP:20260420T000439
CREATED:20250211T140255Z
LAST-MODIFIED:20250211T140453Z
UID:2033-1730316600-1730325600@stroud.camra.org.uk
SUMMARY:Eastern Stroud Edge Social
DESCRIPTION:We start at The Crown in Frampton Mansell 1930/45 ish and then move on to The Bell in Sapperton. All welcome\, no business just good humoured banter and fun. See you there.\n\n\n\n\n\n\nImage: Mike Goldwater
URL:https://stroud.camra.org.uk/event/eastern-stroud-edge-social/
LOCATION:Crown\, Frampton Mansell
CATEGORIES:Social
ATTACH;FMTTYPE=image/jpeg:https://stroud.camra.org.uk/wp-content/uploads/2025/02/Assorted-Pint-Clips-Two-640x428-1.jpg
END:VEVENT
BEGIN:VEVENT
DTSTART;TZID=Europe/London:20240731T193000
DTEND;TZID=Europe/London:20240731T220000
DTSTAMP:20260420T000439
CREATED:20250211T141957Z
LAST-MODIFIED:20250211T142115Z
UID:2048-1722454200-1722463200@stroud.camra.org.uk
SUMMARY:Cranham and Back Social
DESCRIPTION:This time\, we are moving outside of our patch\, but only just.\nThe Black Horse at Cranham. As you probably all know\, this pub has been saved by the community so let’s give it our support.\nOn our way back to Stroud we will stop off at Painswick\, to sample the offerings at the Oak\, one of my old watering holes as a lad. Many of the others are long gone.\nWe intend to meet in Cranham at about 1930ish\, all welcome\, no Camra business just jolly banter and an enjoyable evening.
URL:https://stroud.camra.org.uk/event/cranham-and-back-social/
LOCATION:Black Horse\, Cranham\, GL4 8HP\, United Kingdom
CATEGORIES:Social
ATTACH;FMTTYPE=image/jpeg:https://stroud.camra.org.uk/wp-content/uploads/2025/02/Assorted-Pint-Clips-Two-640x428-1.jpg
END:VEVENT
BEGIN:VEVENT
DTSTART;VALUE=DATE:20240706
DTEND;VALUE=DATE:20240707
DTSTAMP:20260420T000439
CREATED:20250211T142420Z
LAST-MODIFIED:20250211T142420Z
UID:2051-1720224000-1720310399@stroud.camra.org.uk
SUMMARY:July Social - Vine Tree\, Randwick & Star Inn\, Whiteshill
DESCRIPTION:We plan to meet at the Vine Tree\, Randwick for 13:45. We will enjoy a pint or two enjoying this secluded gem nestling in the flank of a steep hill with spectacular views of the Stroud Valley and across to Rodborough and Selsley Common.\n\n\nBus connections – service 67 arrives at Cashes Green Primary School at 13:09 and is about a 20-minute walk to the Vine Tree. Service 64 arrives at Cainscross around 13:10ish and is an approx. 40-minute walk to the Vine Tree. Other services are available at different times to suit you.\n\n\nFrom the Vine Tree we will walk across the valley to the Star Inn\, Whiteshill (25 minutes’ walk – warning steep path) for around 15:30ish. The Star is a Grade II-listed Cotswold-stone 17th century inn with a comprehensively modernised\, altered and updated interior. We will leave the star when people have had their fill and there is a conveniently located bus stop opposite with frequent No 63 services down into Stroud\, where other services can be picked up.\n\n\nFor those that may not be up for the walk meeting us at the venues in cars is a good fall back. Should the weather be inclement – cars will also be the fall back.\n\n\nFingers crossed for the weather and hope to see you there.
URL:https://stroud.camra.org.uk/event/july-social-vine-tree-randwick-star-inn-whiteshill/
CATEGORIES:Social
ATTACH;FMTTYPE=image/jpeg:https://stroud.camra.org.uk/wp-content/uploads/2025/02/Assorted-Pint-Clips-Two-640x428-1.jpg
END:VEVENT
END:VCALENDAR